BEGIN:VCALENDAR
VERSION:2.0
PRODID:-//Westcoat - ECPv6.15.20//NONSGML v1.0//EN
CALSCALE:GREGORIAN
METHOD:PUBLISH
X-WR-CALNAME:Westcoat
X-ORIGINAL-URL:https://www.westcoat.com
X-WR-CALDESC:Events for Westcoat
REFRESH-INTERVAL;VALUE=DURATION:PT1H
X-Robots-Tag:noindex
X-PUBLISHED-TTL:PT1H
BEGIN:VTIMEZONE
TZID:America/Denver
BEGIN:DAYLIGHT
TZOFFSETFROM:-0700
TZOFFSETTO:-0600
TZNAME:MDT
DTSTART:20250309T090000
END:DAYLIGHT
BEGIN:STANDARD
TZOFFSETFROM:-0600
TZOFFSETTO:-0700
TZNAME:MST
DTSTART:20251102T080000
END:STANDARD
BEGIN:DAYLIGHT
TZOFFSETFROM:-0700
TZOFFSETTO:-0600
TZNAME:MDT
DTSTART:20260308T090000
END:DAYLIGHT
BEGIN:STANDARD
TZOFFSETFROM:-0600
TZOFFSETTO:-0700
TZNAME:MST
DTSTART:20261101T080000
END:STANDARD
BEGIN:DAYLIGHT
TZOFFSETFROM:-0700
TZOFFSETTO:-0600
TZNAME:MDT
DTSTART:20270314T090000
END:DAYLIGHT
BEGIN:STANDARD
TZOFFSETFROM:-0600
TZOFFSETTO:-0700
TZNAME:MST
DTSTART:20271107T080000
END:STANDARD
END:VTIMEZONE
BEGIN:VTIMEZONE
TZID:America/Los_Angeles
BEGIN:DAYLIGHT
TZOFFSETFROM:-0800
TZOFFSETTO:-0700
TZNAME:PDT
DTSTART:20250309T100000
END:DAYLIGHT
BEGIN:STANDARD
TZOFFSETFROM:-0700
TZOFFSETTO:-0800
TZNAME:PST
DTSTART:20251102T090000
END:STANDARD
BEGIN:DAYLIGHT
TZOFFSETFROM:-0800
TZOFFSETTO:-0700
TZNAME:PDT
DTSTART:20260308T100000
END:DAYLIGHT
BEGIN:STANDARD
TZOFFSETFROM:-0700
TZOFFSETTO:-0800
TZNAME:PST
DTSTART:20261101T090000
END:STANDARD
BEGIN:DAYLIGHT
TZOFFSETFROM:-0800
TZOFFSETTO:-0700
TZNAME:PDT
DTSTART:20270314T100000
END:DAYLIGHT
BEGIN:STANDARD
TZOFFSETFROM:-0700
TZOFFSETTO:-0800
TZNAME:PST
DTSTART:20271107T090000
END:STANDARD
END:VTIMEZONE
BEGIN:VEVENT
DTSTART;TZID=America/Denver:20260514T080000
DTEND;TZID=America/Denver:20260515T160000
DTSTAMP:20260425T060805
CREATED:20260309T221402Z
LAST-MODIFIED:20260319T235912Z
UID:17798-1778745600-1778860800@www.westcoat.com
SUMMARY:AAMD Trade Show – Denver\, CO
DESCRIPTION:Stop by Booth 800!\nWestcoat will be taking part in the “Greatest Show in Multifamily”\, the AAMD Education Conference & Trade Show at the Colorado Convention Center. Westcoat Reps Josh Diner and Tim Christian will be ready at Booth #800 to answer questions about Multifamily Waterproofing Solutions. \nWe have a network of preferred contractors or QCAs ready to install cost-effective and easy-to-maintain coating systems on your walkways\, pool decks\, and balconies. \nExhibit Hall – Friday\, May 15\, 2025   8:00am-4:00pm MDT
URL:https://www.westcoat.com/event/aamd-trade-show-may-15-2026/
LOCATION:Colorado Convention Center\, 700 14th Street\, Denver\, 80202-3213
CATEGORIES:Networking
ATTACH;FMTTYPE=image/png:https://www.westcoat.com/wp-content/uploads/2026/03/AAMD_ts_2026_logo_600-X-584.png
END:VEVENT
BEGIN:VEVENT
DTSTART;TZID=America/Los_Angeles:20260515T080000
DTEND;TZID=America/Los_Angeles:20260515T113000
DTSTAMP:20260425T060805
CREATED:20260414T170054Z
LAST-MODIFIED:20260414T170555Z
UID:18018-1778832000-1778844600@www.westcoat.com
SUMMARY:Floor Waterproofing Demo Event at Pacific Industrial Supply - Grover Beach\, CA
DESCRIPTION:Don’t Miss Our Free Waterproofing Demo Event in Grover Beach\, CA!\nLearn cutting-edge waterproofing installation techniques and elevate your projects with expert advice from industry leaders. See how Westcoat’s innovative coatings can save you time and improve durability in your next job. Enjoy complimentary refreshments while networking with top flooring professionals and learning about the latest waterproofing technology! \nSecure Your Spot – RSVP for the Free Demo Today! \nHosted By: Robert Estes from Pacific Industrial Supply\nPresented by: Bill England & Jason Sotelo from Westcoat\nDate: Friday\, May 15\, 2026\nTime: 8:00am – 11:30am\nLocation: 611 S 13th Street\, Grover Beach\, CA 93433 \nSecure Your Spot – RSVP for the Free Demo Today!
URL:https://www.westcoat.com/event/floor-waterproofing-demo-event-at-pacific-industrial-supply-grover-beach-ca/
LOCATION:Pacific Industrial Supply\, 611 S. 13th St\, Grover Beach\, CA\, 93433\, United States
CATEGORIES:Networking,WP
ATTACH;FMTTYPE=image/png:https://www.westcoat.com/wp-content/uploads/2026/04/Pacific-Industrial-Supply-Grover-Beach-WP-Demo-Flyer-051526_V2.png
END:VEVENT
END:VCALENDAR