BEGIN:VCALENDAR
VERSION:2.0
PRODID:-//Westcoat - ECPv6.15.20//NONSGML v1.0//EN
CALSCALE:GREGORIAN
METHOD:PUBLISH
X-WR-CALNAME:Westcoat
X-ORIGINAL-URL:https://www.westcoat.com
X-WR-CALDESC:Events for Westcoat
REFRESH-INTERVAL;VALUE=DURATION:PT1H
X-Robots-Tag:noindex
X-PUBLISHED-TTL:PT1H
BEGIN:VTIMEZONE
TZID:America/Los_Angeles
BEGIN:DAYLIGHT
TZOFFSETFROM:-0800
TZOFFSETTO:-0700
TZNAME:PDT
DTSTART:20240310T100000
END:DAYLIGHT
BEGIN:STANDARD
TZOFFSETFROM:-0700
TZOFFSETTO:-0800
TZNAME:PST
DTSTART:20241103T090000
END:STANDARD
BEGIN:DAYLIGHT
TZOFFSETFROM:-0800
TZOFFSETTO:-0700
TZNAME:PDT
DTSTART:20250309T100000
END:DAYLIGHT
BEGIN:STANDARD
TZOFFSETFROM:-0700
TZOFFSETTO:-0800
TZNAME:PST
DTSTART:20251102T090000
END:STANDARD
BEGIN:DAYLIGHT
TZOFFSETFROM:-0800
TZOFFSETTO:-0700
TZNAME:PDT
DTSTART:20260308T100000
END:DAYLIGHT
BEGIN:STANDARD
TZOFFSETFROM:-0700
TZOFFSETTO:-0800
TZNAME:PST
DTSTART:20261101T090000
END:STANDARD
BEGIN:DAYLIGHT
TZOFFSETFROM:-0800
TZOFFSETTO:-0700
TZNAME:PDT
DTSTART:20270314T100000
END:DAYLIGHT
BEGIN:STANDARD
TZOFFSETFROM:-0700
TZOFFSETTO:-0800
TZNAME:PST
DTSTART:20271107T090000
END:STANDARD
END:VTIMEZONE
BEGIN:VTIMEZONE
TZID:America/Chicago
BEGIN:DAYLIGHT
TZOFFSETFROM:-0600
TZOFFSETTO:-0500
TZNAME:CDT
DTSTART:20250309T080000
END:DAYLIGHT
BEGIN:STANDARD
TZOFFSETFROM:-0500
TZOFFSETTO:-0600
TZNAME:CST
DTSTART:20251102T070000
END:STANDARD
BEGIN:DAYLIGHT
TZOFFSETFROM:-0600
TZOFFSETTO:-0500
TZNAME:CDT
DTSTART:20260308T080000
END:DAYLIGHT
BEGIN:STANDARD
TZOFFSETFROM:-0500
TZOFFSETTO:-0600
TZNAME:CST
DTSTART:20261101T070000
END:STANDARD
BEGIN:DAYLIGHT
TZOFFSETFROM:-0600
TZOFFSETTO:-0500
TZNAME:CDT
DTSTART:20270314T080000
END:DAYLIGHT
BEGIN:STANDARD
TZOFFSETFROM:-0500
TZOFFSETTO:-0600
TZNAME:CST
DTSTART:20271107T070000
END:STANDARD
END:VTIMEZONE
BEGIN:VTIMEZONE
TZID:America/Denver
BEGIN:DAYLIGHT
TZOFFSETFROM:-0700
TZOFFSETTO:-0600
TZNAME:MDT
DTSTART:20240310T090000
END:DAYLIGHT
BEGIN:STANDARD
TZOFFSETFROM:-0600
TZOFFSETTO:-0700
TZNAME:MST
DTSTART:20241103T080000
END:STANDARD
BEGIN:DAYLIGHT
TZOFFSETFROM:-0700
TZOFFSETTO:-0600
TZNAME:MDT
DTSTART:20250309T090000
END:DAYLIGHT
BEGIN:STANDARD
TZOFFSETFROM:-0600
TZOFFSETTO:-0700
TZNAME:MST
DTSTART:20251102T080000
END:STANDARD
BEGIN:DAYLIGHT
TZOFFSETFROM:-0700
TZOFFSETTO:-0600
TZNAME:MDT
DTSTART:20260308T090000
END:DAYLIGHT
BEGIN:STANDARD
TZOFFSETFROM:-0600
TZOFFSETTO:-0700
TZNAME:MST
DTSTART:20261101T080000
END:STANDARD
END:VTIMEZONE
BEGIN:VEVENT
DTSTART;TZID=America/Los_Angeles:20260416T080000
DTEND;TZID=America/Los_Angeles:20260416T120000
DTSTAMP:20260420T030204
CREATED:20260311T195820Z
LAST-MODIFIED:20260311T195820Z
UID:17772-1776326400-1776340800@www.westcoat.com
SUMMARY:Floor Waterproofing Demo Event at QXO – Sun Valley\, CA
DESCRIPTION:Don’t Miss Our Free Waterproofing Demo Event in Sun Valley!\nLearn cutting-edge waterproofing installation techniques and elevate your projects with expert advice from industry leaders. See how Westcoat’s innovative coatings can save you time and improve durability in your next job. Enjoy complimentary refreshments while networking with top flooring professionals and learning about the latest waterproofing technology! \nSecure Your Spot – RSVP for the Free Demo Today! \nHosted By: Kevin Brady from QXO\nPresented by: Bill England and Jason Sotelo from Westcoat\nDate: Thursday\, April 16\, 2026\nTime: 8:00am – 12:00pm\nLocation: 8501 Telfair Ave\, Sun Valley CA 91352 \nSecure Your Spot – RSVP for the Free Demo Today!
URL:https://www.westcoat.com/event/floor-waterproofing-demo-event-at-qxo-sun-valley-ca/
LOCATION:QXO Sun Valley\, 8501 Telfair Ave\, Sun Valley\, 91352\, United States
CATEGORIES:Networking,WP
ATTACH;FMTTYPE=image/png:https://www.westcoat.com/wp-content/uploads/2026/03/QXO-Sun-Valley-WP-Demo-Flyer-41626_V2.png
END:VEVENT
BEGIN:VEVENT
DTSTART;VALUE=DATE:20260312
DTEND;VALUE=DATE:20260316
DTSTAMP:20260420T030204
CREATED:20260203T234936Z
LAST-MODIFIED:20260304T161126Z
UID:17621-1773273600-1773619199@www.westcoat.com
SUMMARY:IIBEC International Convention & Trade Show - Sacramento\, CA
DESCRIPTION:Stop by Booth 1209!\nWestcoat will be exhibiting at this year’s at IIBEC’s International Convention & Trade Show in Sacramento at the SAFE Credit Union Convention Center\, March 12-15. Stop by our booth #1209 to meet our experts: Marc Di Zinno and Jason Sotelo and chat about the latest advancements in waterproofing and epoxy solutions for exterior and interior flooring. \nWe help you with spec-ready materials that are easy to incorporate into your designs. We also have a network of preferred contractors or QCAs ready to install cost-effective and easy-to-maintain exterior and interior floor coating systems for for new builds and restoration projects in any industry. \nExhibit Hall Hours:\n– Friday\, March 13 — 3:15 p.m.–7:15 p.m.\n– Saturday\, March 14 — 8:00 a.m.–Noon\nLearn more about this event at https://2026.iibecconvention.org/.
URL:https://www.westcoat.com/event/2026-iibec-international-convention-trade-show/
LOCATION:SAFE Credit Union Convention Center\, 1401 K Street\, Sacramento\, CA\, 95814\, United States
CATEGORIES:EC,Networking,SC,TC,WP
ATTACH;FMTTYPE=image/jpeg:https://www.westcoat.com/wp-content/uploads/2026/02/2026-IIBEC-Convention-Save-the-Date-625x521-1.jpg
END:VEVENT
BEGIN:VEVENT
DTSTART;TZID=America/Chicago:20260310T090000
DTEND;TZID=America/Chicago:20260310T130000
DTSTAMP:20260420T030204
CREATED:20260216T161353Z
LAST-MODIFIED:20260224T195056Z
UID:17659-1773133200-1773147600@www.westcoat.com
SUMMARY:Floor Waterproofing Demo Hosted by Premier Supply at Sheraton – Houston\, TX
DESCRIPTION:Don’t Miss Our Free Waterproofing Demo Event in Houston\, TX!\nLearn cutting-edge waterproofing installation techniques and elevate your projects with expert advice from industry leaders. See how Westcoat’s innovative coatings can save you time and improve durability in your next job. Enjoy complimentary refreshments while networking with top flooring professionals and learning about the latest waterproofing technology! \nSecure Your Spot – RSVP for the Free Demo Today! \nHosted By: Cody LaBure from Premier Supply\nPresented by: Johnathan Hausmann and Kevin Ross from Westcoat\nDate: Tuesday\, March 10\, 2026\nTime: 9:00am – 1:00pm\nLocation: Sheraton\, 3000 North Loop West\, Houston\, TX 77092 (Jasmine Room) \nSecure Your Spot – RSVP for the Free Demo Today!
URL:https://www.westcoat.com/event/waterproofing-demo-premier-supply-hosts-houston-tx/
LOCATION:Sheraton Houston – North Loop\, 3000 North Loop West\, Houston\, TX\, 77092\, United States
CATEGORIES:Networking,WP
ATTACH;FMTTYPE=image/png:https://www.westcoat.com/wp-content/uploads/2026/02/Premier-Supply-Houston-WP-Demo-Flyer-31026.png
END:VEVENT
BEGIN:VEVENT
DTSTART;TZID=America/Los_Angeles:20260226T080000
DTEND;TZID=America/Los_Angeles:20260226T123000
DTSTAMP:20260420T030204
CREATED:20260120T190112Z
LAST-MODIFIED:20260205T161357Z
UID:17579-1772092800-1772109000@www.westcoat.com
SUMMARY:Floor Waterproofing Demo Event at ABC Waterproof – Fullerton\, CA
DESCRIPTION:Don’t Miss Our Free Waterproofing Demo Event in Fullerton!\nLearn cutting-edge waterproofing installation techniques and elevate your projects with expert advice from industry leaders. See how Westcoat’s innovative coatings can save you time and improve durability in your next job. Enjoy complimentary refreshments while networking with top flooring professionals and learning about the latest waterproofing technology! \nSecure Your Spot – RSVP for the Free Demo Today! \nHosted By: Eric Gerber from ABC Waterproof\nPresented by: Bill England from Westcoat\nDate: Thursday\, February 26\, 2026\nTime: 8:00am – 12:30pm\nLocation: 1835 Dawns Way Unit B\, Fullerton\, CA 92831 \nSecure Your Spot – RSVP for the Free Demo Today!
URL:https://www.westcoat.com/event/floor-waterproofing-demo-event-at-abc-waterproof-fullerton/
LOCATION:ABC Waterproof – Fullerton\, 1835 Dawns Way #B\, Fullerton\, 92831\, United States
CATEGORIES:Networking,WP
ATTACH;FMTTYPE=image/png:https://www.westcoat.com/wp-content/uploads/2026/01/ABC-Fullerton-WP-Demo-Flyer-02-26-26.png
END:VEVENT
BEGIN:VEVENT
DTSTART;TZID=America/Chicago:20260211T090000
DTEND;TZID=America/Chicago:20260211T130000
DTSTAMP:20260420T030204
CREATED:20260109T161656Z
LAST-MODIFIED:20260205T161310Z
UID:17462-1770800400-1770814800@www.westcoat.com
SUMMARY:Waterproofing Demo Event at Texas Stucco - Dallas\, TX
DESCRIPTION:Don’t Miss Our Free Waterproofing Demo Event in Dallas!\nLearn cutting-edge waterproofing installation techniques and elevate your projects with expert advice from industry leaders. See how Westcoat’s innovative coatings can save you time and improve durability in your next job. Enjoy complimentary refreshments while networking with top flooring professionals and learning about the latest waterproofing technology! \nSecure Your Spot – RSVP for the Free Demo Today! \nHosted By: Blake Meador and Ricci Woods from Texas Stucco Supply\nPresented by: Brian Nielsen and Johnathan Hausmann\nDate: Wednesday\, February 11\, 2026\nTime: 9:00am – 1:00pm\nLocation: 901 Regal Row\, Dallas\, TX 75247 \nSecure Your Spot – RSVP for the Free Demo Today!
URL:https://www.westcoat.com/event/waterproofing-demo-event-at-texas-stucco-in-dallas-tx/
LOCATION:Texas Stucco Supply – Dallas\, 901 Regal Row\, Dallas\, TX\, 75247\, United States
CATEGORIES:Networking,WP
ATTACH;FMTTYPE=image/png:https://www.westcoat.com/wp-content/uploads/2025/12/TX-Stucco-Supply_WP-Demo-Flyer_021126.png
END:VEVENT
BEGIN:VEVENT
DTSTART;TZID=America/Los_Angeles:20251204T100000
DTEND;TZID=America/Los_Angeles:20251204T110000
DTSTAMP:20260420T030204
CREATED:20251028T194553Z
LAST-MODIFIED:20251028T194553Z
UID:17039-1764842400-1764846000@www.westcoat.com
SUMMARY:2025 AIA Webinar: Function & Form in Waterproof Decking (Open to All)
DESCRIPTION:Register Here\nPlease join us in our upcoming Webinar on December 4\, 2025\, from 10am-11am PT. The webinar will focus on Function and Form in Waterproof Decking. The course is open to all but is also AIA accredited and will focus on the following criteria: \nLearning Objectives:\n\nIdentify appropriate waterproof deck coating systems for new construction and reconstruction projects\nExamine best practices to avoid corrosion and waterproof deck coating failure\nRecognize how to determine comprehensive specifications for each project\nExplore the various decorative finishes available for waterproof deck coatings\n\n1 AIA HSW Learning Unit\nRegister Here
URL:https://www.westcoat.com/event/2025-aia-webinar-function-form-in-waterproof-decking-open-to-all/
LOCATION:CA
CATEGORIES:AIA,Webinar,WP
ATTACH;FMTTYPE=image/png:https://www.westcoat.com/wp-content/uploads/2025/10/AIA-FF-Waterproof-Decking-Webinar-12-04-25-Flyer-Design.png
END:VEVENT
BEGIN:VEVENT
DTSTART;TZID=America/Denver:20250828T080000
DTEND;TZID=America/Denver:20250828T113000
DTSTAMP:20260420T030204
CREATED:20250707T144251Z
LAST-MODIFIED:20250707T144351Z
UID:16905-1756368000-1756380600@www.westcoat.com
SUMMARY:Waterproofing Demo Event at QXO in San Diego
DESCRIPTION:Don’t Miss Our Free Waterproofing Demo Event in San Diego!\nLearn cutting-edge waterproofing installation techniques and elevate your projects with expert advice from industry leaders. See how Westcoat’s innovative coatings can save you time and improve durability in your next job. Enjoy complimentary refreshments while networking with top flooring professionals and learning about the latest waterproofing technology! \nSecure Your Spot – RSVP for the Free Demo Today! \nHosted By: Maddison O’Hayer from QXO\nPresented by: Marc Di Zinno\nDate: Thursday\, August 28\, 2025\nTime: 8:00am – 11:30am\nLocation: 8840 Complex Drive\, San Diego\, CA 92123 \nSecure Your Spot – RSVP for the Free Demo Today!
URL:https://www.westcoat.com/event/waterproofing-demo-event-at-qxo-in-san-diego/
LOCATION:QXO\, 8840 Complex Drive\, San Diego\, CA\, 92123\, United States
CATEGORIES:Networking,WP
ATTACH;FMTTYPE=image/png:https://www.westcoat.com/wp-content/uploads/2025/07/QXO-San-Diego-WP-Demo-Flyer-082825.png
END:VEVENT
BEGIN:VEVENT
DTSTART;TZID=America/Denver:20250724T100000
DTEND;TZID=America/Denver:20250724T110000
DTSTAMP:20260420T030204
CREATED:20250623T155218Z
LAST-MODIFIED:20250623T155236Z
UID:16867-1753351200-1753354800@www.westcoat.com
SUMMARY:Webinar - Restaurant Flooring Solutions: From Tile Failure to Seamless Success
DESCRIPTION:Register Here\nRestaurant floors shouldn’t crack under pressure (literally). Whether you’re battling greasy back-of-house hazards or front-of-house floors that fall flat\, this webinar shows you how to avoid costly slip-and-fall claims\, health code violations\, and reputation-damaging disasters—before they shut you down. \nPlease join us in our upcoming Webinar focusing on Restaurant Floor Coating Solutions\, hosted by Westcoat Representatives Gary Dunn and Marc Di Zinno. \nLearning Objectives:\n\nIdentify the hidden risks and long-term costs associated with traditional restaurant flooring options\, like quarry tile—including hygiene issues\, maintenance headaches and code violations.\nEvaluate the right flooring systems for various restaurant environments (e.g.\, back-of-house\, cold storage\, front-of-house) based on traffic levels\, compliance needs and performance durability.\nDiscover new innovations and key factors in flooring system design and installation\, like substrate preparation\, drainage planning\, health department requirements and standards in slip coefficients.\nAchieve lasting and proven success with accurate specs\, proper product selection\, certified installers and a solid maintenance plan—whether you’re outfitting one location or scaling across a national brand.\n\nQ&A to follow. Restaurant owners & franchisors and facility managers highly recommended to join\, as well as commercial applicators\, distributors\, contractors\, developers\, architects\, consultants\, or anyone else interested. \nRegister Here
URL:https://www.westcoat.com/event/webinar-restaurant-flooring-solutions/
LOCATION:CA
CATEGORIES:Webinar,WP
ATTACH;FMTTYPE=image/png:https://www.westcoat.com/wp-content/uploads/2025/06/Restaurant-Webinar-Flyer_072425.png
END:VEVENT
BEGIN:VEVENT
DTSTART;TZID=America/Denver:20250515T080000
DTEND;TZID=America/Denver:20250515T120000
DTSTAMP:20260420T030204
CREATED:20250324T174621Z
LAST-MODIFIED:20250324T174917Z
UID:16782-1747296000-1747310400@www.westcoat.com
SUMMARY:Waterproofing Demo Event at ABC Construction Specialties - Fullerton
DESCRIPTION:Don’t Miss Our Free Waterproofing Demo Event in Fullerton!\nLearn cutting-edge waterproofing installation techniques and elevate your projects with expert advice from industry leaders. See how Westcoat’s innovative coatings can save you time and improve durability in your next job. Enjoy complimentary refreshments while networking with top flooring professionals and learning about the latest waterproofing technology! \nSecure Your Spot – RSVP for the Free Demo Today! \nHosted By: ABC Construction Specialties\nPresented by: Bill England\nDate: Thursday\, May 15\, 2025\nTime: 8:00am – 12:00pm\nLocation: 1835 Dawns Way Unit B Fullerton\, CA 92831 \nSecure Your Spot – RSVP for the Free Demo Today!
URL:https://www.westcoat.com/event/waterproofing-demo-abc-construction-specialties-fullerton-5-15-25/
LOCATION:ABC Construction Specialties – Fullerton\, 1835 Dawns Way #B\, Fullerton\, CA\, 92831\, United States
CATEGORIES:Networking,WP
ATTACH;FMTTYPE=image/png:https://www.westcoat.com/wp-content/uploads/2025/03/ABC-Construction-WP-Demo-Flyer-51525.png
END:VEVENT
BEGIN:VEVENT
DTSTART;TZID=America/Denver:20250424T100000
DTEND;TZID=America/Denver:20250424T110000
DTSTAMP:20260420T030204
CREATED:20250315T161004Z
LAST-MODIFIED:20250317T155656Z
UID:16752-1745488800-1745492400@www.westcoat.com
SUMMARY:Webinar – Floor Coating Solutions for Multi-Familly Properties
DESCRIPTION:Register Here\nAre you a property manager\, maintenance director\, or HOA board member? This webinar will cover the common questions and solutions regarding identification\, installation of the right flooring solution for an area\, and floor maintenance. \nPlease join us in our upcoming Webinar focusing on Floor Coating Solutions for Multi-Family Properties\, hosted by Westcoat Representatives Gary Dunn and Josh Diner. \nLearning Objectives:\n\nWhere Westcoat is used on multifamily and commercial properties.\nThe importance of SB 326/721 Balcony Inspection Bills and long-term maintenance of coatings.\nWhat to look for when inspecting balcony decks and exterior walkways for damages.\nThe importance of utilizing manufacturers’ representatives.\n\nQ&A to follow. Property Managers highly recommended to join\, as well as contractors\, developers\, owners\, applicators\, architects\, or anyone else interested. \nRegister Here
URL:https://www.westcoat.com/event/webinar-floor-coating-solutions-for-multi-familly-properties/
LOCATION:CA
CATEGORIES:Webinar,WP
ATTACH;FMTTYPE=image/png:https://www.westcoat.com/wp-content/uploads/2025/03/42424-Webinar-Graphic.png
END:VEVENT
BEGIN:VEVENT
DTSTART;TZID=America/Denver:20250423T090000
DTEND;TZID=America/Denver:20250423T150000
DTSTAMP:20260420T030204
CREATED:20250208T003401Z
LAST-MODIFIED:20250320T165022Z
UID:16680-1745398800-1745420400@www.westcoat.com
SUMMARY:Waterproofing Demo Event at Bay Area Roofing & Waterproofing (Hosted by Beacon Waterproofing)
DESCRIPTION:Don’t Miss Our Free Waterproofing Demo Event in Livermore\, CA!\nLearn cutting-edge waterproofing installation techniques and elevate your projects with expert advice from industry leaders. See how Westcoat’s innovative coatings can save you time and improve durability in your next job. Enjoy complimentary refreshments while networking with top flooring professionals and learning about the latest waterproofing technology! \nSecure Your Spot – RSVP for the Free Demo Today! \nHosted By: Beacon Waterproofing\nPresented by: Bill England\, Gene Vega\, Dan Andes\nDate: Wednesday\, April 23\, 2025\nTime: 9:00am – 3:00pm\nLocation: 420 Leisure St\, Livermore\, CA 94551 \nSecure Your Spot – RSVP for the Free Demo Today!
URL:https://www.westcoat.com/event/waterproofing-demo-event-at-bay-area-roofing-waterproofing-hosted-by-beacon/
LOCATION:Bay Area Roofing & Waterproofing Training\, 420 Leisure St.\, Livermore\, CA\, 94551\, United States
CATEGORIES:Networking,WP
ATTACH;FMTTYPE=image/png:https://www.westcoat.com/wp-content/uploads/2025/02/Beacon-–-NorCal-WP-Demo-4-23-25-Flyer-1.png
END:VEVENT
END:VCALENDAR