BEGIN:VCALENDAR
VERSION:2.0
PRODID:-//Westcoat - ECPv6.15.20//NONSGML v1.0//EN
CALSCALE:GREGORIAN
METHOD:PUBLISH
X-WR-CALNAME:Westcoat
X-ORIGINAL-URL:https://www.westcoat.com
X-WR-CALDESC:Events for Westcoat
REFRESH-INTERVAL;VALUE=DURATION:PT1H
X-Robots-Tag:noindex
X-PUBLISHED-TTL:PT1H
BEGIN:VTIMEZONE
TZID:America/Chicago
BEGIN:DAYLIGHT
TZOFFSETFROM:-0600
TZOFFSETTO:-0500
TZNAME:CDT
DTSTART:20240310T080000
END:DAYLIGHT
BEGIN:STANDARD
TZOFFSETFROM:-0500
TZOFFSETTO:-0600
TZNAME:CST
DTSTART:20241103T070000
END:STANDARD
BEGIN:DAYLIGHT
TZOFFSETFROM:-0600
TZOFFSETTO:-0500
TZNAME:CDT
DTSTART:20250309T080000
END:DAYLIGHT
BEGIN:STANDARD
TZOFFSETFROM:-0500
TZOFFSETTO:-0600
TZNAME:CST
DTSTART:20251102T070000
END:STANDARD
BEGIN:DAYLIGHT
TZOFFSETFROM:-0600
TZOFFSETTO:-0500
TZNAME:CDT
DTSTART:20260308T080000
END:DAYLIGHT
BEGIN:STANDARD
TZOFFSETFROM:-0500
TZOFFSETTO:-0600
TZNAME:CST
DTSTART:20261101T070000
END:STANDARD
END:VTIMEZONE
BEGIN:VEVENT
DTSTART;VALUE=DATE:20251016
DTEND;VALUE=DATE:20251017
DTSTAMP:20260424T030701
CREATED:20250818T153130Z
LAST-MODIFIED:20250818T153130Z
UID:16964-1760572800-1760659199@www.westcoat.com
SUMMARY:GHBA's 23rd Annual Homebuilding & Remodeling Expo - Houston\, TX
DESCRIPTION:Stop by Booth 58!\nWestcoat will be participating in the GHBA Homebuilding & Remodeling Expo at the Pavilion at Sam Houston Race Park. We don’t have a “Great Scott” but our great experts\, Brian Nielsen and Johnathan Hausmann from Westcoat\, will be ready at booth #58 to answer Floor Waterproofing Solutions questions to get you back on track with your homebuilding and remodeling projects. \nWe have a network of preferred contractors or QCAs ready to install cost-effective and easy-to-maintain coating systems on your walkways\, pool decks\, and balconies\, as well as seamless flooring for interior spaces\, that will protect floors into the future and beyond. \nExpo Show Hours: Thursday\, October 16\, 2025   11:00am-5:00pm\nLearn more about this event at https://ghba.org/expo/.
URL:https://www.westcoat.com/event/ghbas-23rd-annual-homebuilding-remodeling-expo-houston-tx/
LOCATION:The Pavilion at Sam Houston Race Park\, 7575 N. Sam Houston Pkwy W\, Houston\, TX\, 77064\, United States
CATEGORIES:Networking
ATTACH;FMTTYPE=image/png:https://www.westcoat.com/wp-content/uploads/2025/08/GHBA-back2track_2025-Logo.png
END:VEVENT
END:VCALENDAR