BEGIN:VCALENDAR
VERSION:2.0
PRODID:-//Westcoat - ECPv6.15.20//NONSGML v1.0//EN
CALSCALE:GREGORIAN
METHOD:PUBLISH
X-ORIGINAL-URL:https://www.westcoat.com
X-WR-CALDESC:Events for Westcoat
REFRESH-INTERVAL;VALUE=DURATION:PT1H
X-Robots-Tag:noindex
X-PUBLISHED-TTL:PT1H
BEGIN:VTIMEZONE
TZID:America/Denver
BEGIN:DAYLIGHT
TZOFFSETFROM:-0700
TZOFFSETTO:-0600
TZNAME:MDT
DTSTART:20240310T090000
END:DAYLIGHT
BEGIN:STANDARD
TZOFFSETFROM:-0600
TZOFFSETTO:-0700
TZNAME:MST
DTSTART:20241103T080000
END:STANDARD
BEGIN:DAYLIGHT
TZOFFSETFROM:-0700
TZOFFSETTO:-0600
TZNAME:MDT
DTSTART:20250309T090000
END:DAYLIGHT
BEGIN:STANDARD
TZOFFSETFROM:-0600
TZOFFSETTO:-0700
TZNAME:MST
DTSTART:20251102T080000
END:STANDARD
BEGIN:DAYLIGHT
TZOFFSETFROM:-0700
TZOFFSETTO:-0600
TZNAME:MDT
DTSTART:20260308T090000
END:DAYLIGHT
BEGIN:STANDARD
TZOFFSETFROM:-0600
TZOFFSETTO:-0700
TZNAME:MST
DTSTART:20261101T080000
END:STANDARD
END:VTIMEZONE
BEGIN:VEVENT
DTSTART;VALUE=DATE:20250918
DTEND;VALUE=DATE:20250919
DTSTAMP:20260422T064153
CREATED:20250818T154049Z
LAST-MODIFIED:20250818T154049Z
UID:16957-1758153600-1758239999@www.westcoat.com
SUMMARY:Spectrum 2025 - Portland\, OR
DESCRIPTION:Stop by Booth 116!\nWestcoat will be taking part in the Multifamily NW Spectrum Education Conference and Trade Show at the Oregon Convention Center. Josh Diner and Joel Mirabella from Westcoat will be ready at Booth 116 to answer questions and discuss the latest innovations in Multifamily Waterproofing Solutions. \nWe have a network of preferred contractors or QCAs ready to install cost-effective and easy-to-maintain coating systems on your walkways\, pool decks\, and balconies. \nExhibit Hall Open: Thursday\, September 18\, 2025   8:00am-3:00pm\nLearn more about this event at https://www.multifamilynw.org/events/spectrum-2025#overview.
URL:https://www.westcoat.com/event/spectrum-2025-portland-or/
LOCATION:Oregon Convention Center\, 777 Northeast Martin Luther King Junior Boulevard - Hall D\, Portland\, 97232\, United States
CATEGORIES:Networking
ATTACH;FMTTYPE=image/png:https://www.westcoat.com/wp-content/uploads/2025/08/Spectrum-2025-Logo.png
END:VEVENT
END:VCALENDAR