BEGIN:VCALENDAR
VERSION:2.0
PRODID:-//Westcoat - ECPv6.15.20//NONSGML v1.0//EN
CALSCALE:GREGORIAN
METHOD:PUBLISH
X-WR-CALNAME:Westcoat
X-ORIGINAL-URL:https://www.westcoat.com
X-WR-CALDESC:Events for Westcoat
REFRESH-INTERVAL;VALUE=DURATION:PT1H
X-Robots-Tag:noindex
X-PUBLISHED-TTL:PT1H
BEGIN:VTIMEZONE
TZID:America/Denver
BEGIN:DAYLIGHT
TZOFFSETFROM:-0700
TZOFFSETTO:-0600
TZNAME:MDT
DTSTART:20240310T090000
END:DAYLIGHT
BEGIN:STANDARD
TZOFFSETFROM:-0600
TZOFFSETTO:-0700
TZNAME:MST
DTSTART:20241103T080000
END:STANDARD
BEGIN:DAYLIGHT
TZOFFSETFROM:-0700
TZOFFSETTO:-0600
TZNAME:MDT
DTSTART:20250309T090000
END:DAYLIGHT
BEGIN:STANDARD
TZOFFSETFROM:-0600
TZOFFSETTO:-0700
TZNAME:MST
DTSTART:20251102T080000
END:STANDARD
BEGIN:DAYLIGHT
TZOFFSETFROM:-0700
TZOFFSETTO:-0600
TZNAME:MDT
DTSTART:20260308T090000
END:DAYLIGHT
BEGIN:STANDARD
TZOFFSETFROM:-0600
TZOFFSETTO:-0700
TZNAME:MST
DTSTART:20261101T080000
END:STANDARD
END:VTIMEZONE
BEGIN:VEVENT
DTSTART;TZID=America/Denver:20250720T093000
DTEND;TZID=America/Denver:20250721T160000
DTSTAMP:20260422T070420
CREATED:20250318T144105Z
LAST-MODIFIED:20250624T160454Z
UID:16768-1753003800-1753113600@www.westcoat.com
SUMMARY:Texas Restaurant Show 2025
DESCRIPTION:Stop by our Booth (1006)!\nVisit Texas Westcoat Representative Johnathan Hausmann\, Sales Development Representative Brian Nielsen\, and Director of Territory Sales Kevin Ross at the Texas Restaurant Show 2025 at the George R. Brown Convention Center. They will be stationed at Booth 1006 ready answer any questions you may have about Westcoat systems and products. \nWe have a network of preferred contractors or QCAs ready to install cost-effective and easy-to-maintain coating systems on your walkways\, pool decks\, and balconies. \nThe show will take place on Sunday\, July 20\, and Monday\, July 21. The exhibit floor will be open Sunday and Monday from 9:30am-4pm.\nLearn more about this event at https://www.txrestaurantshow.com/.
URL:https://www.westcoat.com/event/texas-restaurant-show-2025/
LOCATION:George R. Brown Convention Center\, 1001 Avenida De Las Americas\, Houston\, TX\, 77010\, United States
CATEGORIES:Networking
ATTACH;FMTTYPE=image/png:https://www.westcoat.com/wp-content/uploads/2025/03/TXRestaurantShow2025.png
END:VEVENT
END:VCALENDAR