BEGIN:VCALENDAR
VERSION:2.0
PRODID:-//Westcoat - ECPv6.15.20//NONSGML v1.0//EN
CALSCALE:GREGORIAN
METHOD:PUBLISH
X-ORIGINAL-URL:https://www.westcoat.com
X-WR-CALDESC:Events for Westcoat
REFRESH-INTERVAL;VALUE=DURATION:PT1H
X-Robots-Tag:noindex
X-PUBLISHED-TTL:PT1H
BEGIN:VTIMEZONE
TZID:America/Denver
BEGIN:DAYLIGHT
TZOFFSETFROM:-0700
TZOFFSETTO:-0600
TZNAME:MDT
DTSTART:20240310T090000
END:DAYLIGHT
BEGIN:STANDARD
TZOFFSETFROM:-0600
TZOFFSETTO:-0700
TZNAME:MST
DTSTART:20241103T080000
END:STANDARD
BEGIN:DAYLIGHT
TZOFFSETFROM:-0700
TZOFFSETTO:-0600
TZNAME:MDT
DTSTART:20250309T090000
END:DAYLIGHT
BEGIN:STANDARD
TZOFFSETFROM:-0600
TZOFFSETTO:-0700
TZNAME:MST
DTSTART:20251102T080000
END:STANDARD
BEGIN:DAYLIGHT
TZOFFSETFROM:-0700
TZOFFSETTO:-0600
TZNAME:MDT
DTSTART:20260308T090000
END:DAYLIGHT
BEGIN:STANDARD
TZOFFSETFROM:-0600
TZOFFSETTO:-0700
TZNAME:MST
DTSTART:20261101T080000
END:STANDARD
END:VTIMEZONE
BEGIN:VEVENT
DTSTART;TZID=America/Denver:20250626T100000
DTEND;TZID=America/Denver:20250626T140000
DTSTAMP:20260420T030956
CREATED:20250317T162510Z
LAST-MODIFIED:20250317T162603Z
UID:16766-1750932000-1750946400@www.westcoat.com
SUMMARY:La Mesa Lumber Contractor's BBQ – June 26
DESCRIPTION:Join Westcoat Reps and staff at La Mesa Lumber for their second 2025 Contractor’s BBQ event. We love to show support for our loyal distributor\, and LML has been with us since Day 1! \nPlease note: RSVP and payment are required. Contact Kim Wood at 619-466-0511 or kim@lamesalumber.com.
URL:https://www.westcoat.com/event/la-mesa-lumber-contractors-bbq-june-26/
LOCATION:La Mesa Lumber & Hardware\, 8255 University Ave.\, La Mesa\, CA\, 91942\, United States
CATEGORIES:Networking
ATTACH;FMTTYPE=image/png:https://www.westcoat.com/wp-content/uploads/2025/03/June-26.png
END:VEVENT
END:VCALENDAR