BEGIN:VCALENDAR
VERSION:2.0
PRODID:-//Westcoat - ECPv6.15.20//NONSGML v1.0//EN
CALSCALE:GREGORIAN
METHOD:PUBLISH
X-ORIGINAL-URL:https://www.westcoat.com
X-WR-CALDESC:Events for Westcoat
REFRESH-INTERVAL;VALUE=DURATION:PT1H
X-Robots-Tag:noindex
X-PUBLISHED-TTL:PT1H
BEGIN:VTIMEZONE
TZID:America/Chicago
BEGIN:DAYLIGHT
TZOFFSETFROM:-0600
TZOFFSETTO:-0500
TZNAME:CDT
DTSTART:20240310T080000
END:DAYLIGHT
BEGIN:STANDARD
TZOFFSETFROM:-0500
TZOFFSETTO:-0600
TZNAME:CST
DTSTART:20241103T070000
END:STANDARD
BEGIN:DAYLIGHT
TZOFFSETFROM:-0600
TZOFFSETTO:-0500
TZNAME:CDT
DTSTART:20250309T080000
END:DAYLIGHT
BEGIN:STANDARD
TZOFFSETFROM:-0500
TZOFFSETTO:-0600
TZNAME:CST
DTSTART:20251102T070000
END:STANDARD
BEGIN:DAYLIGHT
TZOFFSETFROM:-0600
TZOFFSETTO:-0500
TZNAME:CDT
DTSTART:20260308T080000
END:DAYLIGHT
BEGIN:STANDARD
TZOFFSETFROM:-0500
TZOFFSETTO:-0600
TZNAME:CST
DTSTART:20261101T070000
END:STANDARD
END:VTIMEZONE
BEGIN:VTIMEZONE
TZID:America/Los_Angeles
BEGIN:DAYLIGHT
TZOFFSETFROM:-0800
TZOFFSETTO:-0700
TZNAME:PDT
DTSTART:20240310T100000
END:DAYLIGHT
BEGIN:STANDARD
TZOFFSETFROM:-0700
TZOFFSETTO:-0800
TZNAME:PST
DTSTART:20241103T090000
END:STANDARD
BEGIN:DAYLIGHT
TZOFFSETFROM:-0800
TZOFFSETTO:-0700
TZNAME:PDT
DTSTART:20250309T100000
END:DAYLIGHT
BEGIN:STANDARD
TZOFFSETFROM:-0700
TZOFFSETTO:-0800
TZNAME:PST
DTSTART:20251102T090000
END:STANDARD
BEGIN:DAYLIGHT
TZOFFSETFROM:-0800
TZOFFSETTO:-0700
TZNAME:PDT
DTSTART:20260308T100000
END:DAYLIGHT
BEGIN:STANDARD
TZOFFSETFROM:-0700
TZOFFSETTO:-0800
TZNAME:PST
DTSTART:20261101T090000
END:STANDARD
END:VTIMEZONE
BEGIN:VTIMEZONE
TZID:America/New_York
BEGIN:DAYLIGHT
TZOFFSETFROM:-0500
TZOFFSETTO:-0400
TZNAME:EDT
DTSTART:20240310T070000
END:DAYLIGHT
BEGIN:STANDARD
TZOFFSETFROM:-0400
TZOFFSETTO:-0500
TZNAME:EST
DTSTART:20241103T060000
END:STANDARD
BEGIN:DAYLIGHT
TZOFFSETFROM:-0500
TZOFFSETTO:-0400
TZNAME:EDT
DTSTART:20250309T070000
END:DAYLIGHT
BEGIN:STANDARD
TZOFFSETFROM:-0400
TZOFFSETTO:-0500
TZNAME:EST
DTSTART:20251102T060000
END:STANDARD
BEGIN:DAYLIGHT
TZOFFSETFROM:-0500
TZOFFSETTO:-0400
TZNAME:EDT
DTSTART:20260308T070000
END:DAYLIGHT
BEGIN:STANDARD
TZOFFSETFROM:-0400
TZOFFSETTO:-0500
TZNAME:EST
DTSTART:20261101T060000
END:STANDARD
END:VTIMEZONE
BEGIN:VEVENT
DTSTART;VALUE=DATE:20251030
DTEND;VALUE=DATE:20251102
DTSTAMP:20260424T031547
CREATED:20250818T153359Z
LAST-MODIFIED:20250915T230202Z
UID:16967-1761782400-1762041599@www.westcoat.com
SUMMARY:TxA25 Annual Conference - Dallas\, TX
DESCRIPTION:Stop by Booth 1125!\nJoin Westcoat for the TxA25 Annual Conference & Design Expo in Dallas\, TX at the Hilton Anatole. Brian Nielsen from Westcoat will be ready (Booth #1125) to answer questions and discuss the hottest floor coating innovations\, like fire-rated waterproofing systems to protect your balconies and decks. \nWe have a network of preferred contractors or QCAs ready to install cost-effective and easy-to-maintain coating systems to keep your walkways\, pool decks\, and balconies safe. \nDesign Expo Hours:\n\nThursday\, October 30\, 2025 | 3pm-6pm\nFriday\, October 31\, 2025 | 11am-3pm\n\n\nLearn more about this event at https://texasarchitects.org/event/annual-conference-design-expo/.
URL:https://www.westcoat.com/event/txa25-annual-conference-dallas-tx/
LOCATION:The Hilton Anatole\, 2201 N Stemmons Fwy\, Dallas\, TX\, 75207\, United States
CATEGORIES:Networking
ATTACH;FMTTYPE=image/png:https://www.westcoat.com/wp-content/uploads/2025/08/TxA-Logo-_1000-x-217-px-1.png
END:VEVENT
BEGIN:VEVENT
DTSTART;TZID=America/Los_Angeles:20251107T090000
DTEND;TZID=America/Los_Angeles:20251107T130000
DTSTAMP:20260424T031547
CREATED:20251003T173856Z
LAST-MODIFIED:20251003T221035Z
UID:17010-1762506000-1762520400@www.westcoat.com
SUMMARY:Epoxy Demo at CreteShine Diamond - Irvine\, CA
DESCRIPTION:Don’t Miss Our Free Epoxy Demo Event in Irvine\, CA!\nLearn cutting-edge epoxy installation techniques and elevate your projects with expert advice from industry leaders. See how Westcoat’s innovative coatings can save you time and improve durability in your next job. Enjoy complimentary refreshments while networking with top flooring professionals and learning about the latest epoxy technology! \nSecure Your Spot – RSVP for the Free Demo Today! \nHosted By: John Maraldo from CreteShine Diamond\nPresented by: Bill England and Jason Sotelo from Westcoat\nDate: Friday\, November 7\, 2025\nTime: 9:00am – 1:00pm\nLocation: 17334 Eastman Avenue\, Irvine\, CA 92614 \nSecure Your Spot – RSVP for the Free Demo Today!
URL:https://www.westcoat.com/event/epoxy-demo-at-creteshine-diamond-irvine-ca/
LOCATION:CreteShine\, 17344 Eastman Avenue\, Irvine\, CA\, 92614\, United States
CATEGORIES:EC,Networking
ATTACH;FMTTYPE=image/png:https://www.westcoat.com/wp-content/uploads/2025/09/CreteShine-Irvine-CA-EC-Demo-Flyer-110725_v2.png
END:VEVENT
BEGIN:VEVENT
DTSTART;TZID=America/Los_Angeles:20251113T090000
DTEND;TZID=America/Los_Angeles:20251113T120000
DTSTAMP:20260424T031547
CREATED:20251007T172533Z
LAST-MODIFIED:20251015T220325Z
UID:17016-1763024400-1763035200@www.westcoat.com
SUMMARY:Epoxy Demo at The Cade Corporation - San Jose\, CA
DESCRIPTION:Don’t Miss Our Free Epoxy Demo Event in San Jose\, CA!\nLearn cutting-edge epoxy installation techniques and elevate your projects with expert advice from industry leaders. See how Westcoat’s innovative coatings can save you time and improve durability in your next job. Enjoy complimentary refreshments while networking with top flooring professionals and learning about the latest epoxy technology! \nSecure Your Spot – RSVP for the Free Demo Today! \nHosted By: Jon Stenshoel at The Cade Corporation\nPresented by: Bill England and Gene Vega from Westcoat\nDate: Thursday\, November 13\, 2025\nTime: 9:00am – 12:00pm\nLocation: 100 Lewis St\, San Jose\, CA 95112 \nSecure Your Spot – RSVP for the Free Demo Today!
URL:https://www.westcoat.com/event/epoxy-demo-at-the-cade-corporation-san-jose-ca/
LOCATION:The Cade Corporation\, 100 Lewis Street\, San Jose\, CA\, 95112\, United States
CATEGORIES:EC,Networking
ATTACH;FMTTYPE=image/png:https://www.westcoat.com/wp-content/uploads/2025/10/Cade-Co-San-Jose-EC-Demo-Flyer-111325.png
END:VEVENT
BEGIN:VEVENT
DTSTART;TZID=America/New_York:20251118T090000
DTEND;TZID=America/New_York:20251118T133000
DTSTAMP:20260424T031547
CREATED:20251009T152524Z
LAST-MODIFIED:20251009T152524Z
UID:17017-1763456400-1763472600@www.westcoat.com
SUMMARY:Epoxy Demo at Decorative Concrete Supply - Houston\, TX
DESCRIPTION:Don’t Miss Our Free Epoxy Demo Event in Houston\, TX!\nLearn cutting-edge epoxy installation techniques and elevate your projects with expert advice from industry leaders. See how Westcoat’s innovative coatings can save you time and improve durability in your next job. Enjoy complimentary refreshments while networking with top flooring professionals and learning about the latest epoxy technology! \nSecure Your Spot – RSVP for the Free Demo Today! \nHosted By: Nic Miller at Decorative Concrete Supply\nPresented by: Johnathan Hausmann from Westcoat\nDate: Tuesday\, November 18\, 2025\nTime: 9:00am – 1:30pm\nLocation: 8310 Castleford #250\, Houston\, TX 77040 \nSecure Your Spot – RSVP for the Free Demo Today!
URL:https://www.westcoat.com/event/epoxy-demo-at-decorative-concrete-houston-tx/
LOCATION:All Decorative Concrete Supply – Houston\, 8310 Castleford #250\, Houston\, 77040\, United States
CATEGORIES:EC,Networking
ATTACH;FMTTYPE=image/png:https://www.westcoat.com/wp-content/uploads/2025/10/Decorative-Concrete-Houston-EC-Demo-Flyer_111825_V2.png
END:VEVENT
END:VCALENDAR